BEGIN:VCALENDAR
VERSION:2.0
PRODID:-//Tonic - ECPv6.14.2//NONSGML v1.0//EN
CALSCALE:GREGORIAN
METHOD:PUBLISH
X-ORIGINAL-URL:https://www.tonictheatre.co.uk
X-WR-CALDESC:Events for Tonic
REFRESH-INTERVAL;VALUE=DURATION:PT1H
X-Robots-Tag:noindex
X-PUBLISHED-TTL:PT1H
BEGIN:VTIMEZONE
TZID:UTC
BEGIN:STANDARD
TZOFFSETFROM:+0000
TZOFFSETTO:+0000
TZNAME:UTC
DTSTART:20250101T000000
END:STANDARD
END:VTIMEZONE
BEGIN:VEVENT
DTSTART;TZID=UTC:20251008T103000
DTEND;TZID=UTC:20251008T163000
DTSTAMP:20260422T165359
CREATED:20250528T141000Z
LAST-MODIFIED:20250528T141057Z
UID:8734-1759919400-1759941000@www.tonictheatre.co.uk
SUMMARY:NEW for 2025: Preventing Sexual Harassment in your Organisation
DESCRIPTION:Late in 2024\, UK legislation was updated to place increased responsibilities onto employers to prevent sexual harassment in the workplace. During this session we’ll lay out what your organisation should now be aware of and the action it should be undertaking. We’ll also create space for you\, as your organisation’s changemaker\, to consider the role you could play in this\, and how you could utilise this change in the law to bolster your organisation’s wider engagement in EDI. During the day you’ll have the chance to experience Tonic’s Preventing Sexual Harassment training so that you can return to work feeling informed\, confident and better equipped to make change.
URL:https://www.tonictheatre.co.uk/cmevent/new-for-2025-preventing-sexual-harassment-in-your-organisation/
LOCATION:London\, TBC
END:VEVENT
END:VCALENDAR