BEGIN:VCALENDAR
VERSION:2.0
PRODID:-//Tonic - ECPv6.14.2//NONSGML v1.0//EN
CALSCALE:GREGORIAN
METHOD:PUBLISH
X-WR-CALNAME:Tonic
X-ORIGINAL-URL:https://www.tonictheatre.co.uk
X-WR-CALDESC:Events for Tonic
REFRESH-INTERVAL;VALUE=DURATION:PT1H
X-Robots-Tag:noindex
X-PUBLISHED-TTL:PT1H
BEGIN:VTIMEZONE
TZID:UTC
BEGIN:STANDARD
TZOFFSETFROM:+0000
TZOFFSETTO:+0000
TZNAME:UTC
DTSTART:20250101T000000
END:STANDARD
END:VTIMEZONE
BEGIN:VEVENT
DTSTART;TZID=UTC:20251106T103000
DTEND;TZID=UTC:20251106T163000
DTSTAMP:20260422T151528
CREATED:20250528T141407Z
LAST-MODIFIED:20250528T141407Z
UID:8737-1762425000-1762446600@www.tonictheatre.co.uk
SUMMARY:NEW for 2025: Bringing People With You
DESCRIPTION:How do you bring people with you on your changemaker journey? It can be isolating\, especially when you feel like the lone voice advocating for the value of spending time on the EDI agenda. We’ll explore strategies to empower you to bring people with you\, increase your confidence in speaking up for the value of this work\, investigate how you can use your workplace culture to your advantage\, all the while adding to your Changemakers toolkit. Over the course of the day you’ll have time to focus on your own approach\, as well as working collaboratively with others.
URL:https://www.tonictheatre.co.uk/cmevent/new-for-2025-bringing-people-with-you/
LOCATION:Citizens Theatre\, 119 Gorbals Street\, Glasgow\, G5 9DS\, United Kingdom
END:VEVENT
END:VCALENDAR