BEGIN:VCALENDAR
VERSION:2.0
PRODID:-//Tonic - ECPv6.14.2//NONSGML v1.0//EN
CALSCALE:GREGORIAN
METHOD:PUBLISH
X-ORIGINAL-URL:https://www.tonictheatre.co.uk
X-WR-CALDESC:Events for Tonic
REFRESH-INTERVAL;VALUE=DURATION:PT1H
X-Robots-Tag:noindex
X-PUBLISHED-TTL:PT1H
BEGIN:VTIMEZONE
TZID:UTC
BEGIN:STANDARD
TZOFFSETFROM:+0000
TZOFFSETTO:+0000
TZNAME:UTC
DTSTART:20250101T000000
END:STANDARD
END:VTIMEZONE
BEGIN:VEVENT
DTSTART;TZID=UTC:20251113T100000
DTEND;TZID=UTC:20251113T133000
DTSTAMP:20260422T151810
CREATED:20250528T143619Z
LAST-MODIFIED:20251010T111241Z
UID:8754-1763028000-1763040600@www.tonictheatre.co.uk
SUMMARY:Online Project 2 - Inclusive Recruitment [Part 3]
DESCRIPTION:From September to December\, we’ll be taking a deep dive into inclusive recruitment. Over the course of four half day sessions\, we’ll spend time looking at how we can best lay the groundwork for inclusive recruitment\, running an inclusive campaign\, taking time to consider how you might appear to potential candidates and finally from inclusive inductions to employee retention.\nWe’ll provide practical tools useful for any changemaker looking to embed inclusive practice within recruitment.
URL:https://www.tonictheatre.co.uk/cmevent/online-project-2-inclusive-recruitment-part-3/
LOCATION:Online Session
END:VEVENT
END:VCALENDAR