BEGIN:VCALENDAR
VERSION:2.0
PRODID:-//Tonic - ECPv6.14.2//NONSGML v1.0//EN
CALSCALE:GREGORIAN
METHOD:PUBLISH
X-WR-CALNAME:Tonic
X-ORIGINAL-URL:https://www.tonictheatre.co.uk
X-WR-CALDESC:Events for Tonic
REFRESH-INTERVAL;VALUE=DURATION:PT1H
X-Robots-Tag:noindex
X-PUBLISHED-TTL:PT1H
BEGIN:VTIMEZONE
TZID:UTC
BEGIN:STANDARD
TZOFFSETFROM:+0000
TZOFFSETTO:+0000
TZNAME:UTC
DTSTART:20250101T000000
END:STANDARD
END:VTIMEZONE
BEGIN:VEVENT
DTSTART;TZID=UTC:20251127T040000
DTEND;TZID=UTC:20251127T173000
DTSTAMP:20260422T153512
CREATED:20250528T145240Z
LAST-MODIFIED:20251010T111208Z
UID:8769-1764216000-1764264600@www.tonictheatre.co.uk
SUMMARY:Online Group Collaboration Session
DESCRIPTION:Spaces to share ideas\, work through challenges you’re experiencing and hear what’s working in other organisations.
URL:https://www.tonictheatre.co.uk/cmevent/online-group-collaboration-session-3/
LOCATION:Online Session
END:VEVENT
END:VCALENDAR