BEGIN:VCALENDAR
VERSION:2.0
PRODID:-//Tonic - ECPv6.14.2//NONSGML v1.0//EN
CALSCALE:GREGORIAN
METHOD:PUBLISH
X-ORIGINAL-URL:https://www.tonictheatre.co.uk
X-WR-CALDESC:Events for Tonic
REFRESH-INTERVAL;VALUE=DURATION:PT1H
X-Robots-Tag:noindex
X-PUBLISHED-TTL:PT1H
BEGIN:VTIMEZONE
TZID:UTC
BEGIN:STANDARD
TZOFFSETFROM:+0000
TZOFFSETTO:+0000
TZNAME:UTC
DTSTART:20250101T000000
END:STANDARD
END:VTIMEZONE
BEGIN:VEVENT
DTSTART;TZID=UTC:20251217T100000
DTEND;TZID=UTC:20251217T113000
DTSTAMP:20260422T135026
CREATED:20250528T145328Z
LAST-MODIFIED:20251010T110357Z
UID:8771-1765965600-1765971000@www.tonictheatre.co.uk
SUMMARY:Online Bites session
DESCRIPTION:A hit of inspiration\, fresh thinking or provocation. We’ll bring a different topic to each session\, then give you the chance to digest with others from the Changemakers community.
URL:https://www.tonictheatre.co.uk/cmevent/online-bites-session-3/
LOCATION:Online Session
END:VEVENT
END:VCALENDAR