BEGIN:VCALENDAR
VERSION:2.0
PRODID:-//Tonic - ECPv6.14.2//NONSGML v1.0//EN
CALSCALE:GREGORIAN
METHOD:PUBLISH
X-ORIGINAL-URL:https://www.tonictheatre.co.uk
X-WR-CALDESC:Events for Tonic
REFRESH-INTERVAL;VALUE=DURATION:PT1H
X-Robots-Tag:noindex
X-PUBLISHED-TTL:PT1H
BEGIN:VTIMEZONE
TZID:UTC
BEGIN:STANDARD
TZOFFSETFROM:+0000
TZOFFSETTO:+0000
TZNAME:UTC
DTSTART:20260101T000000
END:STANDARD
END:VTIMEZONE
BEGIN:VEVENT
DTSTART;TZID=UTC:20261202T103000
DTEND;TZID=UTC:20261202T163000
DTSTAMP:20260422T231615
CREATED:20251216T161831Z
LAST-MODIFIED:20251216T161831Z
UID:9333-1796207400-1796229000@www.tonictheatre.co.uk
SUMMARY:NEW for 2026: Constructive and Collaborative Communication at Work
DESCRIPTION:In every workplace there will be moments of friction. How these moments are managed plays a key role in an inclusive environment. Everybody benefits from working in an environment where problems and disagreements are dealt with collaboratively and respectfully. Building on the popular model of Transactional Analysis\, this session will help you identify destructive patterns of communication\, and give you easy to use tools to build constructive and collaborative communication at work.
URL:https://www.tonictheatre.co.uk/cmevent/new-for-2026-constructive-and-collaborative-communication-at-work/
LOCATION:London\, TBC
END:VEVENT
END:VCALENDAR