BEGIN:VCALENDAR
VERSION:2.0
PRODID:-//Tonic - ECPv6.14.2//NONSGML v1.0//EN
CALSCALE:GREGORIAN
METHOD:PUBLISH
X-WR-CALNAME:Tonic
X-ORIGINAL-URL:https://www.tonictheatre.co.uk
X-WR-CALDESC:Events for Tonic
REFRESH-INTERVAL;VALUE=DURATION:PT1H
X-Robots-Tag:noindex
X-PUBLISHED-TTL:PT1H
BEGIN:VTIMEZONE
TZID:UTC
BEGIN:STANDARD
TZOFFSETFROM:+0000
TZOFFSETTO:+0000
TZNAME:UTC
DTSTART:20250101T000000
END:STANDARD
END:VTIMEZONE
BEGIN:VEVENT
DTSTART;TZID=UTC:20250623T123000
DTEND;TZID=UTC:20250623T140000
DTSTAMP:20260423T000422
CREATED:20250528T144743Z
LAST-MODIFIED:20250528T144743Z
UID:8761-1750681800-1750687200@www.tonictheatre.co.uk
SUMMARY:Online Group Collaboration Session
DESCRIPTION:Spaces to share ideas\, work through challenges you’re experiencing and hear what’s working in other organisations.
URL:https://www.tonictheatre.co.uk/cmevent/online-group-collaboration-session/
LOCATION:Online Session
END:VEVENT
BEGIN:VEVENT
DTSTART;TZID=UTC:20250619T100000
DTEND;TZID=UTC:20250619T133000
DTSTAMP:20260423T000422
CREATED:20250528T142041Z
LAST-MODIFIED:20250528T142041Z
UID:8743-1750327200-1750339800@www.tonictheatre.co.uk
SUMMARY:NEW for 2025: Online Project 1 - Inclusion for Younger Colleagues
DESCRIPTION:This three-part online project addresses the impact of rapid social\, economic\, and technological changes on younger professionals in the arts. Based on recent research by Tonic and Central School of Speech & Drama\, this series will highlight ways arts organisations can foster inclusion for younger colleagues\, benefiting all age groups. Sessions run from March to June with tasks and activities between each half-day Zoom meeting.
URL:https://www.tonictheatre.co.uk/cmevent/new-for-2025-online-project-1-inclusion-for-younger-colleagues/
LOCATION:Online Session
END:VEVENT
END:VCALENDAR