BEGIN:VCALENDAR
VERSION:2.0
PRODID:-//Tonic - ECPv6.14.2//NONSGML v1.0//EN
CALSCALE:GREGORIAN
METHOD:PUBLISH
X-WR-CALNAME:Tonic
X-ORIGINAL-URL:https://www.tonictheatre.co.uk
X-WR-CALDESC:Events for Tonic
REFRESH-INTERVAL;VALUE=DURATION:PT1H
X-Robots-Tag:noindex
X-PUBLISHED-TTL:PT1H
BEGIN:VTIMEZONE
TZID:UTC
BEGIN:STANDARD
TZOFFSETFROM:+0000
TZOFFSETTO:+0000
TZNAME:UTC
DTSTART:20260101T000000
END:STANDARD
END:VTIMEZONE
BEGIN:VEVENT
DTSTART;TZID=UTC:20260129T103000
DTEND;TZID=UTC:20260129T163000
DTSTAMP:20260422T112727
CREATED:20251216T153106Z
LAST-MODIFIED:20260128T143751Z
UID:9300-1769682600-1769704200@www.tonictheatre.co.uk
SUMMARY:A Changemaker's Toolkit
DESCRIPTION:Join this hands-on workshop to gain practical tools for driving change. You’ll identify your unique strengths\, develop realistic strategies\, and explore effective change models. Plus\, you’ll learn ways to look after your well-being while making an impact. This is a chance to connect with other changemakers and build your toolkit for sustainable changemaking.
URL:https://www.tonictheatre.co.uk/cmevent/a-changemakers-toolkit/
LOCATION:Waterloo Action Centre\, 14 Baylis Road\, London\, SE1 7AA\, United Kingdom
END:VEVENT
END:VCALENDAR