BEGIN:VCALENDAR
VERSION:2.0
PRODID:-//Tonic - ECPv6.14.2//NONSGML v1.0//EN
CALSCALE:GREGORIAN
METHOD:PUBLISH
X-ORIGINAL-URL:https://www.tonictheatre.co.uk
X-WR-CALDESC:Events for Tonic
REFRESH-INTERVAL;VALUE=DURATION:PT1H
X-Robots-Tag:noindex
X-PUBLISHED-TTL:PT1H
BEGIN:VTIMEZONE
TZID:UTC
BEGIN:STANDARD
TZOFFSETFROM:+0000
TZOFFSETTO:+0000
TZNAME:UTC
DTSTART:20260101T000000
END:STANDARD
END:VTIMEZONE
BEGIN:VEVENT
DTSTART;TZID=UTC:20260312T103000
DTEND;TZID=UTC:20260312T163000
DTSTAMP:20260422T084044
CREATED:20251216T154305Z
LAST-MODIFIED:20260225T111046Z
UID:9308-1773311400-1773333000@www.tonictheatre.co.uk
SUMMARY:NEW for 2026: Building High-Performing Working Groups
DESCRIPTION:A staff Working Group can be a great tool for engaging your colleagues in your inclusion work\, sharing the load\, and ensuring a range of voices feed into your plans. However\, if not handled effectively\, there is also a risk they can generate more\, not less\, work for you\, can suffer from a lack of direction\, and lead to internal dissatisfaction. Tonic has supported many arts organisations to establish and maintain high-performing inclusion-focussed Working Groups over the years\, and we’ll be passing on our practical guidance about what works while flagging common pitfalls to avoid.
URL:https://www.tonictheatre.co.uk/cmevent/new-for-2026-building-high-performing-working-groups/
LOCATION:Engine Shed\, Station Approach\, Temple Meads\, Bristol\, BS1 6QH
END:VEVENT
BEGIN:VEVENT
DTSTART;TZID=UTC:20260317T123000
DTEND;TZID=UTC:20260317T133000
DTSTAMP:20260422T084044
CREATED:20260213T144625Z
LAST-MODIFIED:20260213T144649Z
UID:9372-1773750600-1773754200@www.tonictheatre.co.uk
SUMMARY:Online Leadership Drop In
DESCRIPTION:We know that navigating the complexities of EDI can be particularly felt by those in leadership and senior roles. On alternate months we’ll host an online drop-in sessions for members of the Changemakers network that are in leadership and Head of Department roles to discuss\, review and support one another on the EDI issues of the moment.
URL:https://www.tonictheatre.co.uk/cmevent/tonic-changemakers-online-leadership-drop-in/
END:VEVENT
BEGIN:VEVENT
DTSTART;TZID=UTC:20260325T100000
DTEND;TZID=UTC:20260325T133000
DTSTAMP:20260422T084044
CREATED:20251216T153737Z
LAST-MODIFIED:20260129T151741Z
UID:9304-1774432800-1774445400@www.tonictheatre.co.uk
SUMMARY:NEW for 2026 Online Project 1: Creating Equality Action Plans [Part 2]
DESCRIPTION:Creating an equality action plan that works for you and what your organisation wants to achieve takes time. Over three online sessions\, we will take a deep dive into laying the foundations for this work\, look at the different ingredients you need to build a successful plan and support you to give your action plan the best chance for success.  There will also be dedicated time for an action plan surgery where you can share your plans in-progress to receive feedback from the brilliant cohort of Changemakers. \nThis series of workshops will give you the tools\, templates and building blocks to make your Equality Action Plan a dynamic document which celebrates success\, monitors progress\, and truly reports on everything you are achieving as Changemakers.
URL:https://www.tonictheatre.co.uk/cmevent/new-for-2026-online-project-1-creating-equality-action-plans-part-2/
LOCATION:Online Session
END:VEVENT
END:VCALENDAR