BEGIN:VCALENDAR
VERSION:2.0
PRODID:-//Tonic - ECPv6.14.2//NONSGML v1.0//EN
CALSCALE:GREGORIAN
METHOD:PUBLISH
X-WR-CALNAME:Tonic
X-ORIGINAL-URL:https://www.tonictheatre.co.uk
X-WR-CALDESC:Events for Tonic
REFRESH-INTERVAL;VALUE=DURATION:PT1H
X-Robots-Tag:noindex
X-PUBLISHED-TTL:PT1H
BEGIN:VTIMEZONE
TZID:UTC
BEGIN:STANDARD
TZOFFSETFROM:+0000
TZOFFSETTO:+0000
TZNAME:UTC
DTSTART:20260101T000000
END:STANDARD
END:VTIMEZONE
BEGIN:VEVENT
DTSTART;TZID=UTC:20260604T103000
DTEND;TZID=UTC:20260604T163000
DTSTAMP:20260422T082219
CREATED:20251216T155229Z
LAST-MODIFIED:20260226T131630Z
UID:9313-1780569000-1780590600@www.tonictheatre.co.uk
SUMMARY:Facilitating Sensitive Conversations
DESCRIPTION:Facilitating conversations around EDI can be challenging - the subject matter of the discussion can be very personal\, emotions can run high and\, if not handled adeptly\, there is the risk of pain being caused and division growing. When discussing EDI in relation to creative products and creative processes\, this can be even more complex. This practical session provides a range of tools and techniques so that Changemakers can facilitate group meetings with confidence and agility and build spaces that feel productive\, energised\, bold but mindful.
URL:https://www.tonictheatre.co.uk/cmevent/facilitating-sensitive-conversations/
LOCATION:Nederlander House  7 Great Russell Street  London  WC1B 3NH
END:VEVENT
BEGIN:VEVENT
DTSTART;TZID=UTC:20260615T160000
DTEND;TZID=UTC:20260615T170000
DTSTAMP:20260422T082219
CREATED:20260213T150107Z
LAST-MODIFIED:20260213T150107Z
UID:9380-1781539200-1781542800@www.tonictheatre.co.uk
SUMMARY:Online Group Collaboration session
DESCRIPTION:A space to share ideas\, work through challenges you’re experiencing and hear what’s working in other organisations.
URL:https://www.tonictheatre.co.uk/cmevent/online-group-collaboration-session-5/
END:VEVENT
END:VCALENDAR